BEGIN:VCALENDAR
VERSION:2.0
BEGIN:VEVENT
SUMMARY:Cerimônia do Priorado
DESCRIPTION:Sessão solene do Priorado Guardiões do Vale.
LOCATION:Blumenau, SC
DTSTART:20260405T193000Z
DTEND:20260405T220000Z
END:VEVENT
END:VCALENDAR